BEGIN:VCALENDAR
VERSION:2.0
PRODID:-//eventon.com NONSGML v1.0//EN
CALSCALE:GREGORIAN
METHOD:PUBLISH
BEGIN:VEVENT
UID:69e73430d449a
DTSTAMP:20260421T082416Z
DTSTART:20250322
DTEND:20250323
LOCATION:Carlsbad NM
SUMMARY:Gus Macker
DESCRIPTION:\nhttps://womenforcarlsbadnm.org/events/gus-macker/
URL:https://womenforcarlsbadnm.org/events/gus-macker/
END:VEVENT
END:VCALENDAR